BEGIN:VCALENDAR
VERSION:2.0
PRODID:spatie/icalendar-generator
DESCRIPTION:Events from Chautauqua Amateur Radio Service
X-WR-CALDESC:Events from Chautauqua Amateur Radio Service
REFRESH-INTERVAL;VALUE=DURATION:PT1440M
X-PUBLISHED-TTL:PT1440M
BEGIN:VTIMEZONE
TZID:Etc/GMT+0
BEGIN:STANDARD
DTSTART:20250408T123000Z
TZOFFSETFROM:+0000
TZOFFSETTO:+0000
END:STANDARD
END:VTIMEZONE
BEGIN:VTIMEZONE
TZID:UTC
BEGIN:STANDARD
DTSTART:20250727T174450Z
TZOFFSETFROM:+0000
TZOFFSETTO:+0000
END:STANDARD
END:VTIMEZONE
BEGIN:VEVENT
UID:1308-9
DTSTAMP:20260423T174450Z
SUMMARY:CARS Monthly Meeting
LOCATION:Martz-Kohl Observatory 176 Robbin Hill Rd  Frewsburg NY 14738
ORGANIZER;CN=Ian Coan:MAILTO:KB2VDO@abxny.com
RRULE:FREQ=MONTHLY;BYDAY=1SA;UNTIL=20281231T000000Z
DTSTART;TZID=Etc/GMT+0:20260103T123000
DTEND;TZID=Etc/GMT+0:20260103T140000
X-ALT-DESC;FMTTYPE=TEXT/HTML:Our club meets on the first Saturday of each m
 onth\, except for June (that meeting is at Field Day)\, and July (because 
 we just had Field Day). Regular meetings are held at the Martz-Kohl Observ
 atory.  In case of inclement weather\, the meeting will be moved to the K
 ennedy Free Library (come in from the back lower&amp;hellip\;
CATEGORIES:General
URL;VALUE=URI:https://chautauqua-ars.org/mc-events/cars-monthly-meeting/?mc
 _id=1308
METHOD:PUBLISH
END:VEVENT
END:VCALENDAR