BEGIN:VCALENDAR
VERSION:2.0
PRODID:spatie/icalendar-generator
DESCRIPTION:Events from Chautauqua Amateur Radio Service
X-WR-CALDESC:Events from Chautauqua Amateur Radio Service
REFRESH-INTERVAL;VALUE=DURATION:PT1440M
X-PUBLISHED-TTL:PT1440M
BEGIN:VTIMEZONE
TZID:Etc/GMT+0
BEGIN:STANDARD
DTSTART:20250810T203000Z
TZOFFSETFROM:+0000
TZOFFSETTO:+0000
END:STANDARD
END:VTIMEZONE
BEGIN:VTIMEZONE
TZID:UTC
BEGIN:STANDARD
DTSTART:20250727T161134Z
TZOFFSETFROM:+0000
TZOFFSETTO:+0000
END:STANDARD
END:VTIMEZONE
BEGIN:VEVENT
UID:704-8
DTSTAMP:20260423T161134Z
SUMMARY:CARS Thursday Night Net
LOCATION:W2DRZ Repeater
ORGANIZER;CN=Ian Coan:MAILTO:KB2VDO@abxny.com
RRULE:FREQ=WEEKLY;UNTIL=20360828T000000Z
DTSTART;TZID=Etc/GMT+0:20260507T203000
DTEND;TZID=Etc/GMT+0:20260507T213000
X-ALT-DESC;FMTTYPE=TEXT/HTML:The Chautauqua Amateur Radio Service holds a n
 et each Thursday at 8:30PM on the W2DRZ repeater (146.790 PL 127.3) in Fre
 wsburg\, NY.
CATEGORIES:General
URL;VALUE=URI:https://chautauqua-ars.org/mc-events/cars-thursday-night-net/
 ?mc_id=704
METHOD:PUBLISH
END:VEVENT
END:VCALENDAR